BEGIN:VCALENDAR
VERSION:2.0
PRODID:-//High Peaks DSA - ECPv5.3.1.1//NONSGML v1.0//EN
CALSCALE:GREGORIAN
METHOD:PUBLISH
X-WR-CALNAME:High Peaks DSA
X-ORIGINAL-URL:https://www.highpeaksdsa.org
X-WR-CALDESC:Events for High Peaks DSA
BEGIN:VTIMEZONE
TZID:UTC
BEGIN:STANDARD
TZOFFSETFROM:+0000
TZOFFSETTO:+0000
TZNAME:UTC
DTSTART:20200101T000000
END:STANDARD
END:VTIMEZONE
BEGIN:VEVENT
DTSTART;TZID=UTC:20200401T180000
DTEND;TZID=UTC:20200401T190000
DTSTAMP:20260424T033407
CREATED:20200330T204249Z
LAST-MODIFIED:20200330T204631Z
UID:65-1585764000-1585767600@www.highpeaksdsa.org
SUMMARY:Virtual Meeting
DESCRIPTION:This meeting is scheduled to begin at 6 PM on Zoom. We’ll be discussing Chapter updates\, our COVID-19 response\, and more. \nTo learn more\, send us an email! Information can be found on our Contact page.
URL:https://www.highpeaksdsa.org/event/virtual-meeting-april-1-2020/
LOCATION:Zoom
END:VEVENT
END:VCALENDAR