BEGIN:VCALENDAR
VERSION:2.0
PRODID:-//High Peaks DSA - ECPv5.3.1.1//NONSGML v1.0//EN
CALSCALE:GREGORIAN
METHOD:PUBLISH
X-WR-CALNAME:High Peaks DSA
X-ORIGINAL-URL:https://www.highpeaksdsa.org
X-WR-CALDESC:Events for High Peaks DSA
BEGIN:VTIMEZONE
TZID:America/New_York
BEGIN:DAYLIGHT
TZOFFSETFROM:-0500
TZOFFSETTO:-0400
TZNAME:EDT
DTSTART:20200308T070000
END:DAYLIGHT
BEGIN:STANDARD
TZOFFSETFROM:-0400
TZOFFSETTO:-0500
TZNAME:EST
DTSTART:20201101T060000
END:STANDARD
END:VTIMEZONE
BEGIN:VEVENT
DTSTART;TZID=America/New_York:20201107T123000
DTEND;TZID=America/New_York:20201107T150000
DTSTAMP:20260424T033341
CREATED:20201106T233525Z
LAST-MODIFIED:20201106T233525Z
UID:290-1604752200-1604761200@www.highpeaksdsa.org
SUMMARY:Uphold Democracy Rally
DESCRIPTION:Join High Peaks DSA\, Sunrise Adirondacks\, and Adirondack Voters for Change to uphold democracy and demand that all votes are counted before a winner is declared. \nRSVP is recommended but not required: https://www.mobilize.us/ptr/event/362235/ \n***Social distancing and the wearing of masks are mandatory at this event. Please look for event marshalls wearing high-visibility vests if you are in need of assistance.*** \nIf you are not comfortable going outside with a mask\, please drive by and honk in support from your car with signs! \nWe love pups\, but please leave four-legged friends at home!
URL:https://www.highpeaksdsa.org/event/uphold-democracy-rally/
LOCATION:Riverside Park\, Saranac Lake\, NY\, 12983\, United States
ATTACH;FMTTYPE=image/jpeg:https://www.highpeaksdsa.org/wp-content/uploads/2020/11/uphold-democracy-event.jpg
END:VEVENT
END:VCALENDAR