BEGIN:VCALENDAR
VERSION:2.0
PRODID:-//High Peaks DSA - ECPv5.3.1.1//NONSGML v1.0//EN
CALSCALE:GREGORIAN
METHOD:PUBLISH
X-WR-CALNAME:High Peaks DSA
X-ORIGINAL-URL:https://www.highpeaksdsa.org
X-WR-CALDESC:Events for High Peaks DSA
BEGIN:VTIMEZONE
TZID:America/New_York
BEGIN:DAYLIGHT
TZOFFSETFROM:-0500
TZOFFSETTO:-0400
TZNAME:EDT
DTSTART:20200308T070000
END:DAYLIGHT
BEGIN:STANDARD
TZOFFSETFROM:-0400
TZOFFSETTO:-0500
TZNAME:EST
DTSTART:20201101T060000
END:STANDARD
END:VTIMEZONE
BEGIN:VEVENT
DTSTART;TZID=America/New_York:20200903T190000
DTEND;TZID=America/New_York:20200903T203000
DTSTAMP:20260424T033343
CREATED:20200828T144053Z
LAST-MODIFIED:20200828T210340Z
UID:244-1599159600-1599165000@www.highpeaksdsa.org
SUMMARY:Q&A Webinar With Fred Balzac and Trevor Sussey
DESCRIPTION:Thursday\, September 3 at 7 PM there will be a Question and Answer webinar with candidates for the Village of Saranac Lake Trustee positions who have been endorsed by the High Peaks chapter of the Democratic Socialists of America (DSA). \nThe candidates will be discussing issues of significance to Saranac Lake including affordable housing\, environmental degradation\, tourism-based economy and a more transparent village government. \nPlease join us and learn more about the issues and the candidates. The election for the Trustee positions is Tuesday\, September 15. Fred Balzac will be on the ballot. Trevor Sussey is running as a write-in candidate. \nZoom info: \nMeeting link: https://us02web.zoom.us/j/87318957363 \nMeeting ID: 873 1895 7363 \nCall in:\n+19292056099\,\,87318957363# US (New York)\n+13126266799\,\,87318957363# US (Chicago)Dial by your location\n+1 929 205 6099 US (New York)\n+1 312 626 6799 US (Chicago)\n+1 301 715 8592 US (Germantown)\n+1 253 215 8782 US (Tacoma)\n+1 346 248 7799 US (Houston)\n+1 669 900 6833 US (San Jose) \nFind your local number: https://us02web.zoom.us/u/kcuJd60S8V
URL:https://www.highpeaksdsa.org/event/qa-fred-trevor/
END:VEVENT
END:VCALENDAR