BEGIN:VCALENDAR
VERSION:2.0
PRODID:-//High Peaks DSA - ECPv5.3.1.1//NONSGML v1.0//EN
CALSCALE:GREGORIAN
METHOD:PUBLISH
X-WR-CALNAME:High Peaks DSA
X-ORIGINAL-URL:https://www.highpeaksdsa.org
X-WR-CALDESC:Events for High Peaks DSA
BEGIN:VTIMEZONE
TZID:America/New_York
BEGIN:DAYLIGHT
TZOFFSETFROM:-0500
TZOFFSETTO:-0400
TZNAME:EDT
DTSTART:20230312T070000
END:DAYLIGHT
BEGIN:STANDARD
TZOFFSETFROM:-0400
TZOFFSETTO:-0500
TZNAME:EST
DTSTART:20231105T060000
END:STANDARD
END:VTIMEZONE
BEGIN:VEVENT
DTSTART;TZID=America/New_York:20230117T190000
DTEND;TZID=America/New_York:20230117T200000
DTSTAMP:20260424T055638
CREATED:20230114T204829Z
LAST-MODIFIED:20230114T211955Z
UID:563-1673982000-1673985600@www.highpeaksdsa.org
SUMMARY:Public Meeting: Hector LaSalle's Record
DESCRIPTION:Kathy Hochul’s nominee for the top judge in New York has generated a lot of controversy for his record\, including anti-labor and anti-choice decisions. \nJoin us Tuesday January 17 at 7:00 PM as we explore the record of Hector LaSalle and why Democratic lawmakers are seeking to block his nomination. \nWe’ll watch a clip from Democracy Now\, where Amy Goodman interviews DSA-endorsed State Senator Jabari Brisport on why he and several of his colleagues are opposed to LaSalle’s nomination. \nMeeting Details\nStart Time: 7 PM \nJoin Zoom Meeting: https://us02web.zoom.us/j/9662164748 \nMeeting ID: 966 216 4748 \nOne tap mobile\n+16469313860\,\,9662164748# US\n+19292056099\,\,9662164748# US (New York) \nDial by your location\n+1 646 931 3860 US\n+1 929 205 6099 US (New York)\n+1 301 715 8592 US (Washington DC)\n+1 305 224 1968 US\n+1 309 205 3325 US\n+1 312 626 6799 US (Chicago)\n+1 564 217 2000 US\n+1 669 444 9171 US\n+1 669 900 6833 US (San Jose)\n+1 689 278 1000 US\n+1 719 359 4580 US\n+1 253 205 0468 US\n+1 253 215 8782 US (Tacoma)\n+1 346 248 7799 US (Houston)\n+1 360 209 5623 US\n+1 386 347 5053 US\n+1 507 473 4847 US\nMeeting ID: 966 216 4748\nFind your local number: https://us02web.zoom.us/u/kdOYHTrL5W \n 
URL:https://www.highpeaksdsa.org/event/public-meeting-11723/
END:VEVENT
END:VCALENDAR