BEGIN:VCALENDAR
VERSION:2.0
PRODID:-//High Peaks DSA - ECPv5.3.1.1//NONSGML v1.0//EN
CALSCALE:GREGORIAN
METHOD:PUBLISH
X-WR-CALNAME:High Peaks DSA
X-ORIGINAL-URL:https://www.highpeaksdsa.org
X-WR-CALDESC:Events for High Peaks DSA
BEGIN:VTIMEZONE
TZID:America/New_York
BEGIN:DAYLIGHT
TZOFFSETFROM:-0500
TZOFFSETTO:-0400
TZNAME:EDT
DTSTART:20210314T070000
END:DAYLIGHT
BEGIN:STANDARD
TZOFFSETFROM:-0400
TZOFFSETTO:-0500
TZNAME:EST
DTSTART:20211107T060000
END:STANDARD
END:VTIMEZONE
BEGIN:VEVENT
DTSTART;TZID=America/New_York:20210321T100000
DTEND;TZID=America/New_York:20210321T110000
DTSTAMP:20260424T011131
CREATED:20210320T161918Z
LAST-MODIFIED:20210320T161918Z
UID:383-1616320800-1616324400@www.highpeaksdsa.org
SUMMARY:North Country Sexual Health Coalition Meeting
DESCRIPTION:Join us for the second meeting of the North Country Sexual Health Coalition! \nTime: Sunday @ 10 AM \nTopics\n\nConnecting with like-minded individuals and organizations to broaden our reach and strengthen our capacity\nFinding ways to support Paul Smith’s College CARE Team initiatives\nPreparing for the opening of a crisis pregnancy center in Saranac Lake\nFinding ways to support local Planned Parenthoods\n\nZoom Information\nTime: Mar 21\, 2021 10:00 AM Eastern Time (US and Canada) \nJoin Zoom Meeting: https://us02web.zoom.us/j/86132119385 \nMeeting ID: 861 3211 9385\nOne tap mobile\n+19292056099\,\,86132119385# US (New York)\n+13126266799\,\,86132119385# US (Chicago) \nDial by your location\n+1 929 205 6099 US (New York)\n+1 312 626 6799 US (Chicago)\n+1 301 715 8592 US (Washington DC)\n+1 346 248 7799 US (Houston)\n+1 669 900 6833 US (San Jose)\n+1 253 215 8782 US (Tacoma)\nMeeting ID: 861 3211 9385\nFind your local number: https://us02web.zoom.us/u/kdmtQzv80v
URL:https://www.highpeaksdsa.org/event/ncshc-321/
END:VEVENT
END:VCALENDAR