BEGIN:VCALENDAR
VERSION:2.0
PRODID:-//High Peaks DSA - ECPv5.3.1.1//NONSGML v1.0//EN
CALSCALE:GREGORIAN
METHOD:PUBLISH
X-WR-CALNAME:High Peaks DSA
X-ORIGINAL-URL:https://www.highpeaksdsa.org
X-WR-CALDESC:Events for High Peaks DSA
BEGIN:VTIMEZONE
TZID:America/New_York
BEGIN:DAYLIGHT
TZOFFSETFROM:-0500
TZOFFSETTO:-0400
TZNAME:EDT
DTSTART:20210314T070000
END:DAYLIGHT
BEGIN:STANDARD
TZOFFSETFROM:-0400
TZOFFSETTO:-0500
TZNAME:EST
DTSTART:20211107T060000
END:STANDARD
END:VTIMEZONE
BEGIN:VEVENT
DTSTART;TZID=America/New_York:20210318T170000
DTEND;TZID=America/New_York:20210318T180000
DTSTAMP:20260424T025416
CREATED:20210317T210344Z
LAST-MODIFIED:20210317T210344Z
UID:381-1616086800-1616090400@www.highpeaksdsa.org
SUMMARY:Mutual Aid Working Group Meeting
DESCRIPTION:Our mutual aid working group will be meeting Thursday\, March 18 at 5 PM to discuss its ongoing work. \nEmail highpeaksdsa [at] gmail [dot] com for more information!
URL:https://www.highpeaksdsa.org/event/mutual-aid-working-group-meeting-318/
END:VEVENT
END:VCALENDAR