BEGIN:VCALENDAR
VERSION:2.0
PRODID:-//High Peaks DSA - ECPv5.3.1.1//NONSGML v1.0//EN
CALSCALE:GREGORIAN
METHOD:PUBLISH
X-WR-CALNAME:High Peaks DSA
X-ORIGINAL-URL:https://www.highpeaksdsa.org
X-WR-CALDESC:Events for High Peaks DSA
BEGIN:VTIMEZONE
TZID:America/New_York
BEGIN:DAYLIGHT
TZOFFSETFROM:-0500
TZOFFSETTO:-0400
TZNAME:EDT
DTSTART:20200308T070000
END:DAYLIGHT
BEGIN:STANDARD
TZOFFSETFROM:-0400
TZOFFSETTO:-0500
TZNAME:EST
DTSTART:20201101T060000
END:STANDARD
END:VTIMEZONE
BEGIN:VEVENT
DTSTART;TZID=America/New_York:20200701T190000
DTEND;TZID=America/New_York:20200701T203000
DTSTAMP:20260424T014647
CREATED:20200701T000315Z
LAST-MODIFIED:20200701T000315Z
UID:151-1593630000-1593635400@www.highpeaksdsa.org
SUMMARY:DSA Members Meeting
DESCRIPTION:Join us on Wednesday at 7 PM for our Members Meeting! All dues-paying DSA members are welcome. \nThese meetings will take place via Zoom for the duration of the COVID-19 pandemic. Check your inbox for the link! We hope to see you there. \nYou can learn more about the High Peaks chapter of the Democratic Socialists of America here. Click this link to become a dues-paying DSA member!
URL:https://www.highpeaksdsa.org/event/members-meeting-71/
END:VEVENT
END:VCALENDAR