BEGIN:VCALENDAR
VERSION:2.0
PRODID:-//High Peaks DSA - ECPv5.3.1.1//NONSGML v1.0//EN
CALSCALE:GREGORIAN
METHOD:PUBLISH
X-WR-CALNAME:High Peaks DSA
X-ORIGINAL-URL:https://www.highpeaksdsa.org
X-WR-CALDESC:Events for High Peaks DSA
BEGIN:VTIMEZONE
TZID:America/New_York
BEGIN:DAYLIGHT
TZOFFSETFROM:-0500
TZOFFSETTO:-0400
TZNAME:EDT
DTSTART:20240310T070000
END:DAYLIGHT
BEGIN:STANDARD
TZOFFSETFROM:-0400
TZOFFSETTO:-0500
TZNAME:EST
DTSTART:20241103T060000
END:STANDARD
END:VTIMEZONE
BEGIN:VEVENT
DTSTART;TZID=America/New_York:20240612T190000
DTEND;TZID=America/New_York:20240612T200000
DTSTAMP:20260421T175836
CREATED:20240606T222532Z
LAST-MODIFIED:20240606T222532Z
UID:665-1718218800-1718222400@www.highpeaksdsa.org
SUMMARY:Members' Meeting
DESCRIPTION:We’ll have an open forum for discussion following the Plants\, People\, and Apartheid film series and discuss plans for the months ahead. \nThis meeting will be held on Zoom. Check your inbox for the link!
URL:https://www.highpeaksdsa.org/event/members-meeting-61224/
END:VEVENT
END:VCALENDAR