BEGIN:VCALENDAR
VERSION:2.0
PRODID:-//High Peaks DSA - ECPv5.3.1.1//NONSGML v1.0//EN
CALSCALE:GREGORIAN
METHOD:PUBLISH
X-WR-CALNAME:High Peaks DSA
X-ORIGINAL-URL:https://www.highpeaksdsa.org
X-WR-CALDESC:Events for High Peaks DSA
BEGIN:VTIMEZONE
TZID:America/New_York
BEGIN:DAYLIGHT
TZOFFSETFROM:-0500
TZOFFSETTO:-0400
TZNAME:EDT
DTSTART:20220313T070000
END:DAYLIGHT
BEGIN:STANDARD
TZOFFSETFROM:-0400
TZOFFSETTO:-0500
TZNAME:EST
DTSTART:20221106T060000
END:STANDARD
END:VTIMEZONE
BEGIN:VEVENT
DTSTART;TZID=America/New_York:20220217T190000
DTEND;TZID=America/New_York:20220217T200000
DTSTAMP:20260424T011209
CREATED:20220211T000603Z
LAST-MODIFIED:20220211T002605Z
UID:524-1645124400-1645128000@www.highpeaksdsa.org
SUMMARY:Members Meeting: Member Proposals; Working Group Breakouts
DESCRIPTION:Topics: Member proposals; Finance Subcommittee; Working group updates (Housing\, Care Not Incarceration\, Reproductive Rights) \nThis meeting will take place at 7 PM on Zoom. \nWe will email all High Peaks DSA members to Zoom meeting information. If you haven’t received an email from us\, email highpeaksdsa [at] gmail [dot] com for Zoom information. Check out our contact page to join our email list. \nYou can learn more about the High Peaks chapter of the Democratic Socialists of America here. Click this link to become a dues-paying DSA member!
URL:https://www.highpeaksdsa.org/event/members-meeting-217-2/
END:VEVENT
END:VCALENDAR