BEGIN:VCALENDAR
VERSION:2.0
PRODID:-//High Peaks DSA - ECPv5.3.1.1//NONSGML v1.0//EN
CALSCALE:GREGORIAN
METHOD:PUBLISH
X-WR-CALNAME:High Peaks DSA
X-ORIGINAL-URL:https://www.highpeaksdsa.org
X-WR-CALDESC:Events for High Peaks DSA
BEGIN:VTIMEZONE
TZID:America/New_York
BEGIN:DAYLIGHT
TZOFFSETFROM:-0500
TZOFFSETTO:-0400
TZNAME:EDT
DTSTART:20230312T070000
END:DAYLIGHT
BEGIN:STANDARD
TZOFFSETFROM:-0400
TZOFFSETTO:-0500
TZNAME:EST
DTSTART:20231105T060000
END:STANDARD
END:VTIMEZONE
BEGIN:VEVENT
DTSTART;TZID=America/New_York:20230109T190000
DTEND;TZID=America/New_York:20230109T200000
DTSTAMP:20260421T212349
CREATED:20230110T011221Z
LAST-MODIFIED:20230110T011221Z
UID:561-1673290800-1673294400@www.highpeaksdsa.org
SUMMARY:Members Meeting
DESCRIPTION:Topics: Distributing funds to local organizations; Winter Carnival ideas; Nominations Committee \nIt’s our first members meeting of the year! This meeting will take place at 7 PM on Zoom. \nWe will email all High Peaks DSA members the Zoom meeting information. \nIf you haven’t received an email from us\, email highpeaksdsa [at] gmail [dot] com for Zoom information. Check out our contact page to join our email list. \nYou can learn more about the High Peaks chapter of the Democratic Socialists of America here. Click this link to become a dues-paying DSA member!
URL:https://www.highpeaksdsa.org/event/members-meeting-1923/
END:VEVENT
END:VCALENDAR