BEGIN:VCALENDAR
VERSION:2.0
PRODID:-//High Peaks DSA - ECPv5.3.1.1//NONSGML v1.0//EN
CALSCALE:GREGORIAN
METHOD:PUBLISH
X-WR-CALNAME:High Peaks DSA
X-ORIGINAL-URL:https://www.highpeaksdsa.org
X-WR-CALDESC:Events for High Peaks DSA
BEGIN:VTIMEZONE
TZID:America/New_York
BEGIN:DAYLIGHT
TZOFFSETFROM:-0500
TZOFFSETTO:-0400
TZNAME:EDT
DTSTART:20200308T070000
END:DAYLIGHT
BEGIN:STANDARD
TZOFFSETFROM:-0400
TZOFFSETTO:-0500
TZNAME:EST
DTSTART:20201101T060000
END:STANDARD
END:VTIMEZONE
BEGIN:VEVENT
DTSTART;TZID=America/New_York:20200602T170000
DTEND;TZID=America/New_York:20200602T190000
DTSTAMP:20260424T074918
CREATED:20200530T232736Z
LAST-MODIFIED:20200530T232814Z
UID:115-1591117200-1591124400@www.highpeaksdsa.org
SUMMARY:Justice For George Floyd Protest
DESCRIPTION:Join us as we demand justice for George Floyd and the countless other victims of police violence\, murder\, and white supremacy! \n*MASKS AND SOCIAL DISTANCING REQUIRED* \nWe will maintain 6 ft distance\, with masks\, and spread toward the boat launch. Bring signs! If you are not comfortable going outside with a mask\, please drive by and honk in support from your car with signs! \nWe love pups\, but please leave four-legged friends at home! \nReach out via our Contact Page if you’re looking for more information.
URL:https://www.highpeaksdsa.org/event/justice-for-george-floyd-protest/
LOCATION:Riverside Park\, Riverside Park\, Saranac Lake\, NY\, 12983\, United States
END:VEVENT
END:VCALENDAR