BEGIN:VCALENDAR
VERSION:2.0
PRODID:-//High Peaks DSA - ECPv5.3.1.1//NONSGML v1.0//EN
CALSCALE:GREGORIAN
METHOD:PUBLISH
X-WR-CALNAME:High Peaks DSA
X-ORIGINAL-URL:https://www.highpeaksdsa.org
X-WR-CALDESC:Events for High Peaks DSA
BEGIN:VTIMEZONE
TZID:America/New_York
BEGIN:DAYLIGHT
TZOFFSETFROM:-0500
TZOFFSETTO:-0400
TZNAME:EDT
DTSTART:20200308T070000
END:DAYLIGHT
BEGIN:STANDARD
TZOFFSETFROM:-0400
TZOFFSETTO:-0500
TZNAME:EST
DTSTART:20201101T060000
END:STANDARD
END:VTIMEZONE
BEGIN:VEVENT
DTSTART;TZID=America/New_York:20201202T190000
DTEND;TZID=America/New_York:20201202T200000
DTSTAMP:20260424T014714
CREATED:20201124T020539Z
LAST-MODIFIED:20201201T001113Z
UID:299-1606935600-1606939200@www.highpeaksdsa.org
SUMMARY:High Peaks DSA Members Meeting
DESCRIPTION:Join us on Wednesday at 7 PM for our Members Meeting! All dues-paying DSA members are welcome. \nWe’ll be discussing our organizing strategies and our goals heading into the new year. \nRecommended reading: How to Organize Your Friends and Family on Thanksgiving by Jane McAlevey \nThese meetings will take place via Zoom for the duration of the COVID-19 pandemic. Check your inbox for the link! We hope to see you there. \nYou can learn more about the High Peaks chapter of the Democratic Socialists of America here. Click this link to become a dues-paying DSA member!
URL:https://www.highpeaksdsa.org/event/hpdsa-members-meeting-122/
END:VEVENT
END:VCALENDAR