BEGIN:VCALENDAR
VERSION:2.0
PRODID:-//High Peaks DSA - ECPv5.3.1.1//NONSGML v1.0//EN
CALSCALE:GREGORIAN
METHOD:PUBLISH
X-WR-CALNAME:High Peaks DSA
X-ORIGINAL-URL:https://www.highpeaksdsa.org
X-WR-CALDESC:Events for High Peaks DSA
BEGIN:VTIMEZONE
TZID:America/Halifax
BEGIN:DAYLIGHT
TZOFFSETFROM:-0400
TZOFFSETTO:-0300
TZNAME:ADT
DTSTART:20200308T060000
END:DAYLIGHT
BEGIN:STANDARD
TZOFFSETFROM:-0300
TZOFFSETTO:-0400
TZNAME:AST
DTSTART:20201101T050000
END:STANDARD
END:VTIMEZONE
BEGIN:VEVENT
DTSTART;TZID=America/Halifax:20200506T190000
DTEND;TZID=America/Halifax:20200506T203000
DTSTAMP:20260424T063813
CREATED:20200504T013115Z
LAST-MODIFIED:20200504T013139Z
UID:96-1588791600-1588797000@www.highpeaksdsa.org
SUMMARY:High Peaks DSA Virtual Meeting
DESCRIPTION:High Peaks DSA will be meeting from 7:00–8:30 PM using Zoom. Check your email for the Zoom link! \nIf you’re new and want to attend\, send us an email. You can learn how to get in touch with us by visiting our contact page.
URL:https://www.highpeaksdsa.org/event/high-peaks-dsa-virtual-meeting-5-6-2020/
END:VEVENT
END:VCALENDAR