BEGIN:VCALENDAR
VERSION:2.0
PRODID:-//High Peaks DSA - ECPv5.3.1.1//NONSGML v1.0//EN
CALSCALE:GREGORIAN
METHOD:PUBLISH
X-WR-CALNAME:High Peaks DSA
X-ORIGINAL-URL:https://www.highpeaksdsa.org
X-WR-CALDESC:Events for High Peaks DSA
BEGIN:VTIMEZONE
TZID:America/New_York
BEGIN:DAYLIGHT
TZOFFSETFROM:-0500
TZOFFSETTO:-0400
TZNAME:EDT
DTSTART:20200308T070000
END:DAYLIGHT
BEGIN:STANDARD
TZOFFSETFROM:-0400
TZOFFSETTO:-0500
TZNAME:EST
DTSTART:20201101T060000
END:STANDARD
END:VTIMEZONE
BEGIN:VEVENT
DTSTART;TZID=America/New_York:20200722T190000
DTEND;TZID=America/New_York:20200722T203000
DTSTAMP:20260424T014714
CREATED:20200720T183659Z
LAST-MODIFIED:20200720T190558Z
UID:164-1595444400-1595449800@www.highpeaksdsa.org
SUMMARY:High Peaks DSA General Meeting
DESCRIPTION:Join us Wednesday July 22 for our general meeting. All are welcome! We’ll be spending most of the meeting in breakout rooms talking about our various working groups. \nFill out the form on our Contact page to get meeting details. \nThese meetings will take place via Zoom for the duration of the COVID-19 pandemic. We hope to see you there! \nYou can learn more about the High Peaks chapter of the Democratic Socialists of America here. You can learn more about the national DSA organization here.
URL:https://www.highpeaksdsa.org/event/high-peaks-dsa-general-meeting-722/
END:VEVENT
END:VCALENDAR