BEGIN:VCALENDAR
VERSION:2.0
PRODID:-//High Peaks DSA - ECPv5.3.1.1//NONSGML v1.0//EN
CALSCALE:GREGORIAN
METHOD:PUBLISH
X-WR-CALNAME:High Peaks DSA
X-ORIGINAL-URL:https://www.highpeaksdsa.org
X-WR-CALDESC:Events for High Peaks DSA
BEGIN:VTIMEZONE
TZID:America/New_York
BEGIN:DAYLIGHT
TZOFFSETFROM:-0500
TZOFFSETTO:-0400
TZNAME:EDT
DTSTART:20240310T070000
END:DAYLIGHT
BEGIN:STANDARD
TZOFFSETFROM:-0400
TZOFFSETTO:-0500
TZNAME:EST
DTSTART:20241103T060000
END:STANDARD
END:VTIMEZONE
BEGIN:VEVENT
DTSTART;TZID=America/New_York:20240904T190000
DTEND;TZID=America/New_York:20240904T200000
DTSTAMP:20260424T004738
CREATED:20240822T035613Z
LAST-MODIFIED:20240822T035613Z
UID:668-1725476400-1725480000@www.highpeaksdsa.org
SUMMARY:General Meeting
DESCRIPTION:Climate change? Reproductive rights? The proposed public safety building in Saranac Lake? Let’s talk about it! \nOur September meeting will be an open forum to talk about the local\, state\, or national issues you’re passionate about in a casual setting with your friends and neighbors. All are welcome—you don’t need to be a DSA member to attend. \nThe meeting will take place on Wednesday\, September 4 at 7:00 PM on Zoom. Email highpeaksdsa [at] gmail [dot] com for the link!
URL:https://www.highpeaksdsa.org/event/general-meeting-9424/
END:VEVENT
END:VCALENDAR