BEGIN:VCALENDAR
VERSION:2.0
PRODID:-//High Peaks DSA - ECPv5.3.1.1//NONSGML v1.0//EN
CALSCALE:GREGORIAN
METHOD:PUBLISH
X-WR-CALNAME:High Peaks DSA
X-ORIGINAL-URL:https://www.highpeaksdsa.org
X-WR-CALDESC:Events for High Peaks DSA
BEGIN:VTIMEZONE
TZID:America/New_York
BEGIN:DAYLIGHT
TZOFFSETFROM:-0500
TZOFFSETTO:-0400
TZNAME:EDT
DTSTART:20210314T070000
END:DAYLIGHT
BEGIN:STANDARD
TZOFFSETFROM:-0400
TZOFFSETTO:-0500
TZNAME:EST
DTSTART:20211107T060000
END:STANDARD
END:VTIMEZONE
BEGIN:VEVENT
DTSTART;TZID=America/New_York:20210906T190000
DTEND;TZID=America/New_York:20210906T203000
DTSTAMP:20260424T025314
CREATED:20210808T220303Z
LAST-MODIFIED:20210905T175354Z
UID:452-1630954800-1630960200@www.highpeaksdsa.org
SUMMARY:General Meeting: Movie Watch Party
DESCRIPTION:Join us on Wednesday at 7 PM for our general meeting. All are welcome! We’ll be watching Salt Of The Earth\, a film based on the 1951 strike against the Empire Zinc Company. \nThe full film can be watched on YouTube or Wikipedia. \nAll members of our email list will receive Zoom details in their inbox. If you don’t receive an email from us\, email highpeaksdsa [at] gmail [dot] com. \nYou can learn more about the High Peaks chapter of the Democratic Socialists of America here. Click this link to become a dues-paying DSA member!
URL:https://www.highpeaksdsa.org/event/general-meeting-9121/
END:VEVENT
END:VCALENDAR