BEGIN:VCALENDAR
VERSION:2.0
PRODID:-//High Peaks DSA - ECPv5.3.1.1//NONSGML v1.0//EN
CALSCALE:GREGORIAN
METHOD:PUBLISH
X-WR-CALNAME:High Peaks DSA
X-ORIGINAL-URL:https://www.highpeaksdsa.org
X-WR-CALDESC:Events for High Peaks DSA
BEGIN:VTIMEZONE
TZID:America/New_York
BEGIN:DAYLIGHT
TZOFFSETFROM:-0500
TZOFFSETTO:-0400
TZNAME:EDT
DTSTART:20210314T070000
END:DAYLIGHT
BEGIN:STANDARD
TZOFFSETFROM:-0400
TZOFFSETTO:-0500
TZNAME:EST
DTSTART:20211107T060000
END:STANDARD
END:VTIMEZONE
BEGIN:VEVENT
DTSTART;TZID=America/New_York:20210616T190000
DTEND;TZID=America/New_York:20210616T200000
DTSTAMP:20260424T044033
CREATED:20210608T235353Z
LAST-MODIFIED:20210616T164225Z
UID:423-1623870000-1623873600@www.highpeaksdsa.org
SUMMARY:General Meeting
DESCRIPTION:Join us on Wednesday at 7 PM for our monthly general meeting. All are welcome! \nThis meeting will take place on Zoom — email highpeaksdsa [at] gmail [dot] com for the link! \nTopics: DSA National Convention; Working Group Updates \nRSVP for this meeting! \nYou can learn more about the High Peaks chapter of the Democratic Socialists of America here. Click this link to become a dues-paying DSA member!
URL:https://www.highpeaksdsa.org/event/general-meeting-61621/
END:VEVENT
END:VCALENDAR