BEGIN:VCALENDAR
VERSION:2.0
PRODID:-//High Peaks DSA - ECPv5.3.1.1//NONSGML v1.0//EN
CALSCALE:GREGORIAN
METHOD:PUBLISH
X-WR-CALNAME:High Peaks DSA
X-ORIGINAL-URL:https://www.highpeaksdsa.org
X-WR-CALDESC:Events for High Peaks DSA
BEGIN:VTIMEZONE
TZID:America/New_York
BEGIN:DAYLIGHT
TZOFFSETFROM:-0500
TZOFFSETTO:-0400
TZNAME:EDT
DTSTART:20250309T070000
END:DAYLIGHT
BEGIN:STANDARD
TZOFFSETFROM:-0400
TZOFFSETTO:-0500
TZNAME:EST
DTSTART:20251102T060000
END:STANDARD
END:VTIMEZONE
BEGIN:VEVENT
DTSTART;TZID=America/New_York:20250205T190000
DTEND;TZID=America/New_York:20250205T200000
DTSTAMP:20260421T141127
CREATED:20250204T034711Z
LAST-MODIFIED:20250204T034720Z
UID:683-1738782000-1738785600@www.highpeaksdsa.org
SUMMARY:General Meeting
DESCRIPTION:We will continue our discussion about an open process in the imminent NY-21 race to replace Elise Stefanik\, and talk about our upcoming executive committee elections. \nEmail highpeaksdsa [at] gmail [dot] com for the link!
URL:https://www.highpeaksdsa.org/event/general-meeting-2525/
END:VEVENT
END:VCALENDAR