BEGIN:VCALENDAR
VERSION:2.0
PRODID:-//High Peaks DSA - ECPv5.3.1.1//NONSGML v1.0//EN
CALSCALE:GREGORIAN
METHOD:PUBLISH
X-WR-CALNAME:High Peaks DSA
X-ORIGINAL-URL:https://www.highpeaksdsa.org
X-WR-CALDESC:Events for High Peaks DSA
BEGIN:VTIMEZONE
TZID:America/New_York
BEGIN:DAYLIGHT
TZOFFSETFROM:-0500
TZOFFSETTO:-0400
TZNAME:EDT
DTSTART:20210314T070000
END:DAYLIGHT
BEGIN:STANDARD
TZOFFSETFROM:-0400
TZOFFSETTO:-0500
TZNAME:EST
DTSTART:20211107T060000
END:STANDARD
END:VTIMEZONE
BEGIN:VEVENT
DTSTART;TZID=America/New_York:20210106T190000
DTEND;TZID=America/New_York:20210106T200000
DTSTAMP:20260424T014647
CREATED:20201124T044053Z
LAST-MODIFIED:20210105T173122Z
UID:306-1609959600-1609963200@www.highpeaksdsa.org
SUMMARY:General Meeting: "Opiate of the masses" or "Beloved community"?
DESCRIPTION:Join us on Wednesday at 7 PM for our monthly general meeting. All are welcome! \nTopic: “Opiate of the masses” or “Beloved community”? A brave conversation about histories of harm and inspiration\, faith\, and socialist organizing. \nThese meetings will take place via Zoom for the duration of the COVID-19 pandemic. Check your inbox for the link! We hope to see you there. \nYou can learn more about the High Peaks chapter of the Democratic Socialists of America here. Click this link to become a dues-paying DSA member! \nZoom Details\nRSVP For This Event \nJoin Zoom Meeting: https://us02web.zoom.us/j/9662164748 \nMeeting ID: 966 216 4748 \nDial by your location\n+1 929 205 6099 US (New York)\n+1 301 715 8592 US (Washington D.C)\n+1 312 626 6799 US (Chicago)\n+1 346 248 7799 US (Houston)\n+1 669 900 6833 US (San Jose)\n+1 253 215 8782 US (Tacoma)
URL:https://www.highpeaksdsa.org/event/general-meeting-1621/
ATTACH;FMTTYPE=image/png:https://www.highpeaksdsa.org/wp-content/uploads/2020/11/january-6-meeting-photo.png
END:VEVENT
END:VCALENDAR