BEGIN:VCALENDAR
VERSION:2.0
PRODID:-//High Peaks DSA - ECPv5.3.1.1//NONSGML v1.0//EN
CALSCALE:GREGORIAN
METHOD:PUBLISH
X-WR-CALNAME:High Peaks DSA
X-ORIGINAL-URL:https://www.highpeaksdsa.org
X-WR-CALDESC:Events for High Peaks DSA
BEGIN:VTIMEZONE
TZID:America/New_York
BEGIN:DAYLIGHT
TZOFFSETFROM:-0500
TZOFFSETTO:-0400
TZNAME:EDT
DTSTART:20210314T070000
END:DAYLIGHT
BEGIN:STANDARD
TZOFFSETFROM:-0400
TZOFFSETTO:-0500
TZNAME:EST
DTSTART:20211107T060000
END:STANDARD
END:VTIMEZONE
BEGIN:VEVENT
DTSTART;TZID=America/New_York:20210124T140000
DTEND;TZID=America/New_York:20210124T160000
DTSTAMP:20260424T031540
CREATED:20210122T004931Z
LAST-MODIFIED:20210122T005007Z
UID:352-1611496800-1611504000@www.highpeaksdsa.org
SUMMARY:Fighting The Far Right In The Biden Era
DESCRIPTION:Register for this event: https://us02web.zoom.us/meeting/register/tZIkduGprDoiE93Yy55T140ZPYcRNH4is9bU \nThe events of January 6th made the threat of a growing far right painfully clear. Compared with responses to last summer’s historic Black Lives Matter protests\, they also exposed the abject racism of US policing and the sympathy of many officers for white supremacy. \nSome will take comfort in the humiliation of Trump and the ascension to power of the Biden administration. But will he and his establishment “grown-ups” even try to sweep up the mess that bullhorn racism and forty years of carceral neoliberalism have created? \nTempest\, along with many others on the left\, answer with an emphatic “no”. No one is coming to save us but us! This public forum brings together activists from the US and beyond to strategize how we can best fight an incipient fascism. \nTogether we will interrogate the forces that brought about this moment as well as the coalition\, tactics\, and organizing forms we need—not only to defeat the right and demoralize their followers\, but to challenge the decrepit racial capitalism that bred Trump in the first place. \nLearn more: https://www.facebook.com/events/430477468156747/ \nSpeakers\n\nJustin Akers Chacón\, educator and union activist in the San Diego-Tijuana border region\, member of the Puntorojo editorial collective\, and author of No One is Illegal (with Mike Davis)\, Radicals in the Barrio\, and The Border Crossed Us: The Case for Opening the US-Mexico Border (forthcoming)\nElizabeth Lalasz\, registered nurse\, steward with National Nurses United\, Tempest Collective\, Chicago DSA Labor Branch\nDavid McNally\, Cullen Distinguished Professor of History & Business\, University of Houston and Editor-in-Chief of Spectre magazine\nJeb Purucker\, co-chair of Santa Cruz DSA\n\nHigh Peaks DSA is a co-sponsor of this event.
URL:https://www.highpeaksdsa.org/event/fighting-the-far-right-in-the-biden-era/
ATTACH;FMTTYPE=image/jpeg:https://www.highpeaksdsa.org/wp-content/uploads/2021/01/fighting-the-far-right-in-the-biden-era.jpg
END:VEVENT
END:VCALENDAR