BEGIN:VCALENDAR
VERSION:2.0
PRODID:-//High Peaks DSA - ECPv5.3.1.1//NONSGML v1.0//EN
CALSCALE:GREGORIAN
METHOD:PUBLISH
X-WR-CALNAME:High Peaks DSA
X-ORIGINAL-URL:https://www.highpeaksdsa.org
X-WR-CALDESC:Events for High Peaks DSA
BEGIN:VTIMEZONE
TZID:America/New_York
BEGIN:DAYLIGHT
TZOFFSETFROM:-0500
TZOFFSETTO:-0400
TZNAME:EDT
DTSTART:20210314T070000
END:DAYLIGHT
BEGIN:STANDARD
TZOFFSETFROM:-0400
TZOFFSETTO:-0500
TZNAME:EST
DTSTART:20211107T060000
END:STANDARD
END:VTIMEZONE
BEGIN:VEVENT
DTSTART;TZID=America/New_York:20210203T190000
DTEND;TZID=America/New_York:20210203T200000
DTSTAMP:20260425T182144
CREATED:20210119T171006Z
LAST-MODIFIED:20210124T162726Z
UID:340-1612378800-1612382400@www.highpeaksdsa.org
SUMMARY:Extinguishing the Far Right in Rural America
DESCRIPTION:Join us on Wednesday at 7 PM for a public discussion: Extinguishing the Far Right in Rural America. All are welcome! Register for the event here. \nTopic: Join High Peaks DSA for a discussion on organizing against the growing far right in rural America. As we witness the increasing development of white nationalist militias who are recruiting in our towns and villages\, High Peaks DSA invites fellow organizers to share in a conversation of how to build the Left in our political environment. \nThese meetings will take place via Zoom for the duration of the COVID-19 pandemic. Please register for the event to get the link. We hope to see you there! \nYou can learn more about the High Peaks chapter of the Democratic Socialists of America here. Click this link to become a dues-paying DSA member! \nFollow us on Facebook and Instagram!
URL:https://www.highpeaksdsa.org/event/feb032021/
ATTACH;FMTTYPE=image/png:https://www.highpeaksdsa.org/wp-content/uploads/2021/01/feb03-1.png
END:VEVENT
END:VCALENDAR