BEGIN:VCALENDAR
VERSION:2.0
PRODID:-//High Peaks DSA - ECPv5.3.1.1//NONSGML v1.0//EN
CALSCALE:GREGORIAN
METHOD:PUBLISH
X-WR-CALNAME:High Peaks DSA
X-ORIGINAL-URL:https://www.highpeaksdsa.org
X-WR-CALDESC:Events for High Peaks DSA
BEGIN:VTIMEZONE
TZID:America/New_York
BEGIN:DAYLIGHT
TZOFFSETFROM:-0500
TZOFFSETTO:-0400
TZNAME:EDT
DTSTART:20240310T070000
END:DAYLIGHT
BEGIN:STANDARD
TZOFFSETFROM:-0400
TZOFFSETTO:-0500
TZNAME:EST
DTSTART:20241103T060000
END:STANDARD
END:VTIMEZONE
BEGIN:VEVENT
DTSTART;TZID=America/New_York:20241211T190000
DTEND;TZID=America/New_York:20241211T200000
DTSTAMP:20260424T054202
CREATED:20241204T041706Z
LAST-MODIFIED:20241204T041706Z
UID:675-1733943600-1733947200@www.highpeaksdsa.org
SUMMARY:End Of Year Meeting
DESCRIPTION:Our end-of-year meeting will take place on Wednesday\, December 11 from 7–8 PM. We hope to see you there\, as we’ll be discussing: \n\n2025 meeting schedule (including in-person meetups)\nChapter campaigns and priorities\nExecutive Committee elections\nMember engagement\, outreach\, and retention\nNavigating organizing under the Trump Administration
URL:https://www.highpeaksdsa.org/event/end-of-year-meeting/
END:VEVENT
END:VCALENDAR