BEGIN:VCALENDAR
VERSION:2.0
PRODID:-//High Peaks DSA - ECPv5.3.1.1//NONSGML v1.0//EN
CALSCALE:GREGORIAN
METHOD:PUBLISH
X-WR-CALNAME:High Peaks DSA
X-ORIGINAL-URL:https://www.highpeaksdsa.org
X-WR-CALDESC:Events for High Peaks DSA
BEGIN:VTIMEZONE
TZID:America/New_York
BEGIN:DAYLIGHT
TZOFFSETFROM:-0500
TZOFFSETTO:-0400
TZNAME:EDT
DTSTART:20230312T070000
END:DAYLIGHT
BEGIN:STANDARD
TZOFFSETFROM:-0400
TZOFFSETTO:-0500
TZNAME:EST
DTSTART:20231105T060000
END:STANDARD
END:VTIMEZONE
BEGIN:VEVENT
DTSTART;TZID=America/New_York:20230301T190000
DTEND;TZID=America/New_York:20230301T200000
DTSTAMP:20260424T023800
CREATED:20230224T185007Z
LAST-MODIFIED:20230224T185007Z
UID:586-1677697200-1677700800@www.highpeaksdsa.org
SUMMARY:Electoral Committee Meeting
DESCRIPTION:Agenda\n\nDiscuss open local seats & candidate recruitment\nContinue to develop the Chapter’s candidate endorsement policy\n\nOnly members of High Peaks DSA can attend Electoral Committee meetings. If you’re a member\, check your inbox for the meeting link\, or email highpeaksdsa [at] gmail [dot] com. \nClick this link to become a DSA member!
URL:https://www.highpeaksdsa.org/event/electoral-committee-meeting-3123/
END:VEVENT
END:VCALENDAR