BEGIN:VCALENDAR
VERSION:2.0
PRODID:-//High Peaks DSA - ECPv5.3.1.1//NONSGML v1.0//EN
CALSCALE:GREGORIAN
METHOD:PUBLISH
X-WR-CALNAME:High Peaks DSA
X-ORIGINAL-URL:https://www.highpeaksdsa.org
X-WR-CALDESC:Events for High Peaks DSA
BEGIN:VTIMEZONE
TZID:America/New_York
BEGIN:DAYLIGHT
TZOFFSETFROM:-0500
TZOFFSETTO:-0400
TZNAME:EDT
DTSTART:20200308T070000
END:DAYLIGHT
BEGIN:STANDARD
TZOFFSETFROM:-0400
TZOFFSETTO:-0500
TZNAME:EST
DTSTART:20201101T060000
END:STANDARD
END:VTIMEZONE
BEGIN:VEVENT
DTSTART;TZID=America/New_York:20200811T193000
DTEND;TZID=America/New_York:20200811T200000
DTSTAMP:20260424T033843
CREATED:20200811T003556Z
LAST-MODIFIED:20200811T003556Z
UID:215-1597174200-1597176000@www.highpeaksdsa.org
SUMMARY:Crisis Pregnancy Center Working Group Meeting
DESCRIPTION:Join the High Peaks DSA crisis pregnancy center working group meeting this Tuesday from 7:30–8 PM where we’ll discuss how to proceed with a formal appeal of the Development Board’s approval of the Adirondack Pregnancy Center. \nAll are welcome\, no registration required! You can join our Zoom call using the details below: \n  \nJoin Zoom Meeting\nhttps://us02web.zoom.us/j/83097175321 \nMeeting ID: 830 9717 5321\nOne tap mobile\n+19292056099\,\,83097175321# US (New York)\n+13126266799\,\,83097175321# US (Chicago) \nDial by your location\n+1 929 205 6099 US (New York)\n+1 312 626 6799 US (Chicago)\n+1 301 715 8592 US (Germantown)\n+1 669 900 6833 US (San Jose)\n+1 253 215 8782 US (Tacoma)\n+1 346 248 7799 US (Houston)\nMeeting ID: 830 9717 5321\nFind your local number: https://us02web.zoom.us/u/krLa2Ge8K
URL:https://www.highpeaksdsa.org/event/crisis-pregnancy-center-working-group-meeting-811/
ATTACH;FMTTYPE=image/png:https://www.highpeaksdsa.org/wp-content/uploads/2020/08/STOP-THE-ADIRONDACK-PREGNANCY-CENTER.png
END:VEVENT
END:VCALENDAR