BEGIN:VCALENDAR
VERSION:2.0
PRODID:-//High Peaks DSA - ECPv5.3.1.1//NONSGML v1.0//EN
CALSCALE:GREGORIAN
METHOD:PUBLISH
X-WR-CALNAME:High Peaks DSA
X-ORIGINAL-URL:https://www.highpeaksdsa.org
X-WR-CALDESC:Events for High Peaks DSA
BEGIN:VTIMEZONE
TZID:America/New_York
BEGIN:DAYLIGHT
TZOFFSETFROM:-0500
TZOFFSETTO:-0400
TZNAME:EDT
DTSTART:20210314T070000
END:DAYLIGHT
BEGIN:STANDARD
TZOFFSETFROM:-0400
TZOFFSETTO:-0500
TZNAME:EST
DTSTART:20211107T060000
END:STANDARD
END:VTIMEZONE
BEGIN:VEVENT
DTSTART;TZID=America/New_York:20210122T123000
DTEND;TZID=America/New_York:20210122T130000
DTSTAMP:20260424T031314
CREATED:20210122T004108Z
LAST-MODIFIED:20210122T004125Z
UID:349-1611318600-1611320400@www.highpeaksdsa.org
SUMMARY:CHW Program Planning Meeting
DESCRIPTION:We’ll be meeting to discuss the drafted proposal for a community health worker program in the North Country and brainstorm strategies to secure sustainable public funding. \nZoom Information\nhttps://us02web.zoom.us/j/84164236152
URL:https://www.highpeaksdsa.org/event/chw-program-planning-meeting-12221/
END:VEVENT
END:VCALENDAR