BEGIN:VCALENDAR
VERSION:2.0
PRODID:-//High Peaks DSA - ECPv5.3.1.1//NONSGML v1.0//EN
CALSCALE:GREGORIAN
METHOD:PUBLISH
X-WR-CALNAME:High Peaks DSA
X-ORIGINAL-URL:https://www.highpeaksdsa.org
X-WR-CALDESC:Events for High Peaks DSA
BEGIN:VTIMEZONE
TZID:America/New_York
BEGIN:DAYLIGHT
TZOFFSETFROM:-0500
TZOFFSETTO:-0400
TZNAME:EDT
DTSTART:20200308T070000
END:DAYLIGHT
BEGIN:STANDARD
TZOFFSETFROM:-0400
TZOFFSETTO:-0500
TZNAME:EST
DTSTART:20201101T060000
END:STANDARD
END:VTIMEZONE
BEGIN:VEVENT
DTSTART;VALUE=DATE:20200829
DTEND;VALUE=DATE:20200830
DTSTAMP:20260424T111101
CREATED:20200828T143345Z
LAST-MODIFIED:20200828T143417Z
UID:238-1598659200-1598745599@www.highpeaksdsa.org
SUMMARY:Canvassing Event: High Peaks DSA For Fred Balzac and Trevor Sussey
DESCRIPTION:The High Peaks DSA for Fred Balzac and Trevor Sussey campaign will be canvassing Saturday\, August 29! We’ll have 2 shifts of safe\, contact-less literature drops at voter doors. \nMeet: This Saturday at 9:30 AM or 1 PM\, (or both) for training and walking maps at Berkeley Green in Downtown Saranac Lake. \nIf you can\, please send an email to highpeaksdsa@gmail to let us know which shifts you are available for so we have a rough head count & can plan accordingly. \nBring: \n\n\n\nA friend: The more the merrier\, and we’d love a strong showing of support for Fred!\nA mask: And plan on wearing it while canvassing\, we will be doing contactless door drops\, but we would like everyone to be prepared to come into contact with others and represent this campaign as safe and responsible during ongoing Covid-19 pandemic.\nHand sanitizer and/ or gloves to make sure hands are clean while handling literature.\nWater & a snack.\nAnything you need to comfortably walk and be outside for 3–6 hours (hat\, sunscreen\, etc…).\n\n\n\nWe look forward to seeing you all there! We will be canvassing every Saturday between now and the election on September 15\, so please plan on joining us again this month as much as you are able! \nCheck out our press release for more information about this campaign. \nFill out the Google Form below to sign up to volunteer. \nLoading…
URL:https://www.highpeaksdsa.org/event/canvassing-event-high-peaks-dsa-for-fred-balzac-and-trevor-sussey/
ATTACH;FMTTYPE=image/jpeg:https://www.highpeaksdsa.org/wp-content/uploads/2020/08/hpdsa-for-fred-and-trevor.jpg
END:VEVENT
END:VCALENDAR