BEGIN:VCALENDAR
VERSION:2.0
PRODID:-//High Peaks DSA - ECPv5.3.1.1//NONSGML v1.0//EN
CALSCALE:GREGORIAN
METHOD:PUBLISH
X-WR-CALNAME:High Peaks DSA
X-ORIGINAL-URL:https://www.highpeaksdsa.org
X-WR-CALDESC:Events for High Peaks DSA
BEGIN:VTIMEZONE
TZID:America/New_York
BEGIN:DAYLIGHT
TZOFFSETFROM:-0500
TZOFFSETTO:-0400
TZNAME:EDT
DTSTART:20210314T070000
END:DAYLIGHT
BEGIN:STANDARD
TZOFFSETFROM:-0400
TZOFFSETTO:-0500
TZNAME:EST
DTSTART:20211107T060000
END:STANDARD
END:VTIMEZONE
BEGIN:VEVENT
DTSTART;TZID=America/New_York:20210501T150000
DTEND;TZID=America/New_York:20210501T170000
DTSTAMP:20260424T012429
CREATED:20210427T012251Z
LAST-MODIFIED:20210427T012251Z
UID:407-1619881200-1619888400@www.highpeaksdsa.org
SUMMARY:A Conviction Isn't Justice: Black Lives Matter Rally
DESCRIPTION:When: May 1 at 3:00 PM\nWhere: Riverside Park\, Saranac Lake \nA conviction isn’t justice\, it’s accountability. Far too often\, law enforcement officers aren’t held accountable. \nSince 2005\, law enforcement officers have killed more than 16\,000 people. Only eight were convicted of murder. \nJoin John Brown Lives!\, the Adirondack Diversity Initiative\, Adirondack Voters for Change\, and High Peaks DSA on May Day\, Saturday May 1\, at Riverside Park to continue the fight to dismantle systemic racism. \n***MASKS AND SIX FEET SOCIAL DISTANCING REQUIRED*** \nIf you do not feel comfortable participating in the park\, please drive by and honk in support from your car! \nWe love pups\, but please leave four-legged friends at home. \nCheck out the event on Facebook and share it with your friends and family! \nCover photo: Mark Kurtz Photography
URL:https://www.highpeaksdsa.org/event/a-conviction-isnt-justice-black-lives-matter-rally/
LOCATION:Riverside Park\, Saranac Lake\, NY\, 12983\, United States
ATTACH;FMTTYPE=image/jpeg:https://www.highpeaksdsa.org/wp-content/uploads/2021/04/may-1-banner.jpg
END:VEVENT
END:VCALENDAR